BEGIN:VCALENDAR
VERSION:2.0
PRODID:-//Hog Heaven Sporting Club - ECPv6.15.11//NONSGML v1.0//EN
CALSCALE:GREGORIAN
METHOD:PUBLISH
X-WR-CALNAME:Hog Heaven Sporting Club
X-ORIGINAL-URL:https://sfhogheaven.com
X-WR-CALDESC:Events for Hog Heaven Sporting Club
REFRESH-INTERVAL;VALUE=DURATION:PT1H
X-Robots-Tag:noindex
X-PUBLISHED-TTL:PT1H
BEGIN:VTIMEZONE
TZID:America/Chicago
BEGIN:DAYLIGHT
TZOFFSETFROM:-0600
TZOFFSETTO:-0500
TZNAME:CDT
DTSTART:20250309T080000
END:DAYLIGHT
BEGIN:STANDARD
TZOFFSETFROM:-0500
TZOFFSETTO:-0600
TZNAME:CST
DTSTART:20251102T070000
END:STANDARD
BEGIN:DAYLIGHT
TZOFFSETFROM:-0600
TZOFFSETTO:-0500
TZNAME:CDT
DTSTART:20260308T080000
END:DAYLIGHT
BEGIN:STANDARD
TZOFFSETFROM:-0500
TZOFFSETTO:-0600
TZNAME:CST
DTSTART:20261101T070000
END:STANDARD
BEGIN:DAYLIGHT
TZOFFSETFROM:-0600
TZOFFSETTO:-0500
TZNAME:CDT
DTSTART:20270314T080000
END:DAYLIGHT
BEGIN:STANDARD
TZOFFSETFROM:-0500
TZOFFSETTO:-0600
TZNAME:CST
DTSTART:20271107T070000
END:STANDARD
END:VTIMEZONE
BEGIN:VEVENT
DTSTART;TZID=America/Chicago:20260428T160000
DTEND;TZID=America/Chicago:20260428T190000
DTSTAMP:20260421T093353
CREATED:20260326T145634Z
LAST-MODIFIED:20260415T150013Z
UID:10000461-1777392000-1777402800@sfhogheaven.com
SUMMARY:April Skeet League
DESCRIPTION:SKEET LEAGUE\nSHOOT WITH US TUESDAYS IN APRIL – OPEN TO THE PUBLIC!\nTuesday Night Skeet League – 50 targets (two scored rounds) with golf carts included. Pull and score yourself\, 5–7 PM every Tuesday. New to skeet? We’ll walk you through the basics on opening night. Compete all season for the grand prize: a Hog Heaven gift card good for 250 clay targets!\n\n\nDates: April 7\, 14\, 21\, 28\nTimes: Shoot between 4-7 PM\nPrice: $30 Members | $40 Public (Does not include $10 for the weekly cash pot)\nLocation: Hog Heaven\, 24905 Ranch Rd 12\, Dripping Springs\, TX 78620\n\nSKEET SHOOTING DETAILS:\nSkeet consists of shooting 25 clay targets from eight stations arranged in a semicircle\, with clays launched from a “high house” and a “low house” at consistent speed and height. The challenge comes from shooting each station\, which changes the angles and difficulty.\nStations 1–2: Single high house\, single low house\, then a pair (high house must be shot first).\nStations 3–5: Single high house and single low house.\nStations 6–7: Single high house\, single low house\, then a pair (low house shot first).\nStation 8: From the right side\, shoot a high house; from the left\, shoot a low house.\nA full round equals 24 targets. Your first miss becomes your “option” and is reshot to bring the total to 25. If you shoot a perfect round\, you’ll shoot the low house on Station 8 twice.\n\nWeek-to-week registration available at the clubhouse.
URL:https://sfhogheaven.com/event/april-skeet-league-2/2026-04-28/
LOCATION:Hog Heaven Sporting Club\, 24905 Ranch Road 12\, Dripping Springs\, Texas\, 78620\, United States
CATEGORIES:Public Event,Shotgun Event
ATTACH;FMTTYPE=image/png:https://sfhogheaven.com/wp-content/uploads/2026/03/Artboard-1@1500x-2-png.avif
END:VEVENT
BEGIN:VEVENT
DTSTART;TZID=America/Chicago:20260502T110000
DTEND;TZID=America/Chicago:20260502T133000
DTSTAMP:20260421T093353
CREATED:20260415T160738Z
LAST-MODIFIED:20260415T170920Z
UID:10000462-1777719600-1777728600@sfhogheaven.com
SUMMARY:Carbine Tactics
DESCRIPTION:Carbine Tactics\nJOIN US FOR THIS NEW TRAINING OPPORTUNITY AT HOG HEAVEN!\nClass Description \nThis fast-paced\, high-repetition class is designed for shooters looking to develop a more functional skill set with the carbine at close to moderate distances. \nAfter a review of the fundamentals\, we’ll move into a series of skills that focus on more of a defensive mindset such as offsets\, positional shooting\, reloads\, malfunctions\, and multi-target engagements. \nThis course is designed for: \n\nShooters who have a working knowledge of a carbine.\n\nRequired Equipment: \n\nSuppressed carbine or PCC rifle \n2 magazines \nSling\nMagazine pouch\nEye and ear protection\n200 rounds ammunition\n\nCarbine Tactics is taught by retired Green Beret\, Casey Duran. \nFREE FOR HOG HEAVEN MEMBERS!\nREGISTER
URL:https://sfhogheaven.com/event/carbine-tactics/
CATEGORIES:Carbine Club,Featured,Pistol Event,Pistol Training
ATTACH;FMTTYPE=image/jpeg:https://sfhogheaven.com/wp-content/uploads/2026/04/IMG_0808-Recovered.avif
END:VEVENT
BEGIN:VEVENT
DTSTART;TZID=America/Chicago:20260503T080000
DTEND;TZID=America/Chicago:20260503T160000
DTSTAMP:20260421T093353
CREATED:20260209T161529Z
LAST-MODIFIED:20260209T180828Z
UID:10000377-1777795200-1777824000@sfhogheaven.com
SUMMARY:BUCKLE RACE 2026
DESCRIPTION:JOIN US FOR THE 2026 BUCKLE RACE: 7 EVENTS\, ONE SHOT AT THE CHAMPION’S BUCKLE!\nThe 2026 Buckle Race will consist of 7 shoots spread throughout the year\, with the 2 lowest scores being dropped. Buckles will be awarded to HOA\, class\, and concurrents at the conclusion of the series in the MAIN EVENT. A 50 target 5-stand and super sporting will be available to shoot. There will also be a practice 5-stand available. Please note that this is a European rotation event; shooters must shoot in a squad of 3 or more. Main event: $20 btc; 5-Stand: $10btc; Super Sport $10btc. Shoot the main from 8AM-4PM. Golf carts can ONLY be reserved online. \nHead over to Scorechaser for full details and to get registered. \n  \nREGISTER ON SCORECHASER
URL:https://sfhogheaven.com/event/buckle-race-2026/
LOCATION:Hog Heaven Sporting Club\, 24905 Ranch Road 12\, Dripping Springs\, Texas\, 78620\, United States
CATEGORIES:Shotgun Event
ATTACH;FMTTYPE=image/png:https://sfhogheaven.com/wp-content/uploads/2026/02/Artboard-3-png.avif
END:VEVENT
BEGIN:VEVENT
DTSTART;TZID=America/Chicago:20260508T180000
DTEND;TZID=America/Chicago:20260508T200000
DTSTAMP:20260421T093353
CREATED:20260410T172941Z
LAST-MODIFIED:20260410T172941Z
UID:10000457-1778263200-1778270400@sfhogheaven.com
SUMMARY:Competition Pistol Club
DESCRIPTION:  \n \n \nCompetition Pistol Club\nOUR COMPETITION PISTOL CLUB CONTINUES FRIDAY\, MAY 8TH!\nThis club will meet on the 2nd Friday of each month and has a focus on practical shooting sports and competition. Led by National level competitors Alex Acosta and Emmitt Reed\, this 2 hour training block is designed to elevate your shooting to a new level. Expect to have your speed and accuracy pushed to new limits through advanced drills\, dynamic movement\, and a heightened level of awareness while running the gun.\nYou should be an intermediate level shooter that has attended Pistol 1 & 2. \nFREE FOR HOG HEAVEN MEMBERS!\nRequired Equipment:\n\nBelt\nPistol & Kydex holster\n2 mags and puches\nEye and ear pro\n200 rounds of ammo\n\nIf you’re looking to dive deeper into the world of practical shooting\, this club is for you!\n  \nREGISTER
URL:https://sfhogheaven.com/event/competition-pistol-club-may/
CATEGORIES:Carbine Club,Pistol Event,Pistol Training
ATTACH;FMTTYPE=image/jpeg:https://sfhogheaven.com/wp-content/uploads/2026/04/pistol034-1-1.avif
END:VEVENT
BEGIN:VEVENT
DTSTART;TZID=America/Chicago:20260509T090000
DTEND;TZID=America/Chicago:20260509T120000
DTSTAMP:20260421T093353
CREATED:20260420T154743Z
LAST-MODIFIED:20260420T163345Z
UID:10000463-1778317200-1778328000@sfhogheaven.com
SUMMARY:Shoot & Sip - Ladies Shotgun Clinic
DESCRIPTION:  \n \n \nShoot & Sip with Madison and Courtney!\nJoin us for a one-of-a-kind morning at Shoot & Sip with Madison & Courtney\, a ladies-only shotgun clinic designed to build confidence\, sharpen skills\, and connect with others in a fun\, welcoming environment. \nLed by Ladies World Champion Madison Sharpe\, this beginner-friendly class focuses on the essentials—safety\, proper shotgun fit\, stance\, and technique—while giving you hands-on coaching as you learn to break a variety of clay targets. Whether you’re brand new or looking to refine your fundamentals\, you’ll get personalized instruction in a supportive setting. \nAfter the range\, unwind and socialize with a relaxed wine and charcuterie hour\, the perfect chance to connect with fellow participants and celebrate your progress. \nEvent Details\n\nDate: May 9\, 2026\nTime: 9:00 AM – 12:00 PM\nLocation: Hog Heaven Sporting Club\n\nSchedule\n\n9:00 – 11:00 AM: Shooting instruction with Madison Sharpe\n11:00 AM – 12:00 PM: Wine & charcuterie social\n\nWhat You’ll Learn\n\nShotgun safety essentials\nProper gun fit and operation\nMount\, stance\, and shooting fundamentals\nTechniques for breaking different clay targets\n\nWhat’s Included\n\nProfessional instruction\nClays and ammunition\nWine & charcuterie (non-alcoholic options available)\n\nPricing\n\n$250 Public\n$200 Members\n\nImportant Notes\n\nLimited to 10 participants for a personalized experience\nEye and ear protection required\nClosed-toe shoes required\nBring your own shotgun or use one of ours\n\nSpots are limited—reserve yours early for this elevated blend of shooting\, socializing\, and skill-building.
URL:https://sfhogheaven.com/event/shoot-and-sip/
LOCATION:Hog Heaven Sporting Club\, 24905 Ranch Road 12\, Dripping Springs\, Texas\, 78620\, United States
CATEGORIES:Carbine Club,Pistol Event,Pistol Training
ATTACH;FMTTYPE=image/png:https://sfhogheaven.com/wp-content/uploads/2026/04/Artboard-9-png.avif
END:VEVENT
BEGIN:VEVENT
DTSTART;TZID=America/Chicago:20260605T073000
DTEND;TZID=America/Chicago:20260605T140000
DTSTAMP:20260421T093353
CREATED:20250514T154954Z
LAST-MODIFIED:20260326T140532Z
UID:10000169-1780644600-1780668000@sfhogheaven.com
SUMMARY:Operation Game Thief Shootout
DESCRIPTION:The Austin Area Clay Stoppers Shootout event will again benefit OGT and its mission to combat flagrant game law violations\, stop poaching and support Texas’ game wardens. OGT\, a 501(c)(3) corporation\, is funded solely through the support of the public at events such as this tournament. Your participation is sincerely appreciated. \nAll proceeds will benefit OGT and its mission to combat flagrant game law violations\, stop poaching\, and support Texas’ Game Wardens.\n \nSchedule for Friday\, June 5\, 2026\n7:30 am        Registration \n8:45 am        Safety Briefing and Instructions \n9:00 am        Shotgun Start \n11:30 am       Lunch served \n12:00 pm      Raffle/Live Auction \n1:00 pm         Award Ceremony \nThe Tournament: \n100 Targets  \n6 Mulligans for $100.00 per person or $400 per team \nLewis Class scoring system \nPlease note: Shells are NOT provided at the event. \nTrophies: \nTrophies will be awarded to the first and second place teams. \nREGISTRATION IS OPEN!
URL:https://sfhogheaven.com/event/operation-game-thief-shootout/
CATEGORIES:Charity Shoot,Public Event,Shotgun Event
ATTACH;FMTTYPE=image/jpeg:https://sfhogheaven.com/wp-content/uploads/2025/05/OGT2.avif
END:VEVENT
BEGIN:VEVENT
DTSTART;TZID=America/Chicago:20260606T080000
DTEND;TZID=America/Chicago:20260606T150000
DTSTAMP:20260421T093353
CREATED:20250320T190331Z
LAST-MODIFIED:20260304T183056Z
UID:10000156-1780732800-1780758000@sfhogheaven.com
SUMMARY:Hill Country Rally for Kids
DESCRIPTION:REGISTER NOW FOR THE HILL COUNTRY RALLY FOR KIDS CHARITY SHOOT \nHill Country Rally for Kids is excited to gather on Saturday\, June 6th at the beautiful Hog Heaven Sporting Club in Dripping Springs for a day of connection\, friendly competition\, and meaningful impact. The annual clay shoot brings friends and supporters together for a fun day on the course while raising critical support for vulnerable kids in the community. \nThis year\, Hill Country Rally is honored to partner with Foster Village as the beneficiary of the clay shoot. Hosting the event in Dripping Springs feels especially meaningful\, as this is where Foster Village began 10 years ago\, founded by two local foster parents with a heart to support children and families in the foster care system. What started as a small passion project has grown into a nonprofit organization now serving more than 30\,000 children nationwide. \nREGISTRATION IS OPEN! 
URL:https://sfhogheaven.com/event/rally-for-kids/
LOCATION:Hog Heaven Sporting Club\, 24905 Ranch Road 12\, Dripping Springs\, Texas\, 78620\, United States
CATEGORIES:Charity Shoot,Public Event,Shotgun Event
ATTACH;FMTTYPE=image/png:https://sfhogheaven.com/wp-content/uploads/2025/03/Artboard-410-png.avif
END:VEVENT
BEGIN:VEVENT
DTSTART;TZID=America/Chicago:20260607T080000
DTEND;TZID=America/Chicago:20260607T160000
DTSTAMP:20260421T093353
CREATED:20260331T155747Z
LAST-MODIFIED:20260331T155747Z
UID:10000445-1780819200-1780848000@sfhogheaven.com
SUMMARY:BUCKLE RACE 2026 - Shoot #2
DESCRIPTION:JOIN US FOR THE 2026 BUCKLE RACE: 7 EVENTS\, ONE SHOT AT THE CHAMPION’S BUCKLE!\nThe 2026 Buckle Race will consist of 7 shoots spread throughout the year\, with the 2 lowest scores being dropped. Buckles will be awarded to HOA\, class\, and concurrents at the conclusion of the series in the MAIN EVENT. A 50 target 5-stand and super sporting will be available to shoot. There will also be a practice 5-stand available. Please note that this is a European rotation event; shooters must shoot in a squad of 3 or more. Main event: $20 btc; 5-Stand: $10btc; Super Sport $10btc. Shoot the main from 8AM-4PM. Golf carts can ONLY be reserved online. \nHead over to Scorechaser for full details and to get registered. \n  \nREGISTER ON SCORECHASER
URL:https://sfhogheaven.com/event/buckle-race-2026-shoot-2/
LOCATION:Hog Heaven Sporting Club\, 24905 Ranch Road 12\, Dripping Springs\, Texas\, 78620\, United States
CATEGORIES:Shotgun Event
ATTACH;FMTTYPE=image/png:https://sfhogheaven.com/wp-content/uploads/2026/02/Artboard-3-png.avif
END:VEVENT
BEGIN:VEVENT
DTSTART;TZID=America/Chicago:20260627T140000
DTEND;TZID=America/Chicago:20260627T200000
DTSTAMP:20260421T093353
CREATED:20251230T172132Z
LAST-MODIFIED:20260313T151256Z
UID:10000358-1782568800-1782590400@sfhogheaven.com
SUMMARY:Field to Fire: Jesse Griffiths
DESCRIPTION:  \n \n  \n \nFIELD TO FIRE: An Exclusive Chef Series\nWelcoming Jesse Griffiths on Saturday\, June 27\, 2026 (Rescheduled from 1/24 due to weather)\nHog Heaven Sporting Club is proud to announce Field to Fire\, an exclusive chef series bringing three of Austin’s top culinary talents to the Hill Country for live-fire cooking experiences you won’t find anywhere else.\nOur final event features Jesse Griffiths\, chef and owner of Austin’s Michelin-rated Dai Due and a leading voice in sourcing Texas ingredients\, responsible hunting\, and traditional butchery. Jesse will lead an immersive two-hour wild hog butchery class covering start-to-finish techniques—from breaking down the animal to sausage-making and seasonal cooking methods that’ll serve you well year-round.\nAfter class\, settle in for a family-style wild game dinner prepared live-fire on a Mill Scale grill\, complete with seasonal sides that showcase Jesse’s signature approach to local\, wild cuisine. The evening includes live music\, complimentary wine and beer\, and a book signing of the James Beard Award-winning The Hog Book: A Chef’s Guide to Hunting\, Butchering\, and Cooking Wild Pigs.\nThis is culinary education meets outdoor celebration—and it’s just the beginning of what Field to Fire has in store!\nButchery Class 2-4 PM\nCocktail Hour 4-5:30 PM\nFamily-Style Dinner 5:30-7 PM\nBook Signing 7-8 PM\n\nTickets for this all-inclusive evening with Jesse Griffiths are now on sale\, and limited to 40 attendees. Two ticket choices are available\, one for both the class and dinner\, and one for dinner only. Don’t miss this one-of-a-kind opportunity!
URL:https://sfhogheaven.com/event/chef-series-jesse-griffiths/
LOCATION:Hog Heaven Sporting Club\, 24905 Ranch Road 12\, Dripping Springs\, Texas\, 78620\, United States
CATEGORIES:Chef Series,Featured
ATTACH;FMTTYPE=image/png:https://sfhogheaven.com/wp-content/uploads/2025/12/Artboard-3_2-3-png.avif
END:VEVENT
BEGIN:VEVENT
DTSTART;TZID=America/Chicago:20260719T080000
DTEND;TZID=America/Chicago:20260719T160000
DTSTAMP:20260421T093353
CREATED:20260331T160658Z
LAST-MODIFIED:20260331T161309Z
UID:10000446-1784448000-1784476800@sfhogheaven.com
SUMMARY:BUCKLE RACE 2026 - Shoot #3
DESCRIPTION:JOIN US FOR THE 2026 BUCKLE RACE: 7 EVENTS\, ONE SHOT AT THE CHAMPION’S BUCKLE!\nThe 2026 Buckle Race will consist of 7 shoots spread throughout the year\, with the 2 lowest scores being dropped. Buckles will be awarded to HOA\, class\, and concurrents at the conclusion of the series in the MAIN EVENT. A 50 target 5-stand and super sporting will be available to shoot. There will also be a practice 5-stand available. Please note that this is a European rotation event; shooters must shoot in a squad of 3 or more. Main event: $20 btc; 5-Stand: $10btc; Super Sport $10btc. Shoot the main from 8AM-4PM. Golf carts can ONLY be reserved online. \nHead over to Scorechaser for full details and to get registered. \n  \nREGISTER ON SCORECHASER
URL:https://sfhogheaven.com/event/buckle-race-2026-shoot-3/
LOCATION:Hog Heaven Sporting Club\, 24905 Ranch Road 12\, Dripping Springs\, Texas\, 78620\, United States
CATEGORIES:Shotgun Event
ATTACH;FMTTYPE=image/png:https://sfhogheaven.com/wp-content/uploads/2026/02/Artboard-3-png.avif
END:VEVENT
BEGIN:VEVENT
DTSTART;TZID=America/Chicago:20260815T080000
DTEND;TZID=America/Chicago:20260815T160000
DTSTAMP:20260421T093353
CREATED:20260331T161434Z
LAST-MODIFIED:20260331T163118Z
UID:10000447-1786780800-1786809600@sfhogheaven.com
SUMMARY:BUCKLE RACE 2026 - Shoot #4
DESCRIPTION:JOIN US FOR THE 2026 BUCKLE RACE: 7 EVENTS\, ONE SHOT AT THE CHAMPION’S BUCKLE!\nThe 2026 Buckle Race will consist of 7 shoots spread throughout the year\, with the 2 lowest scores being dropped. Buckles will be awarded to HOA\, class\, and concurrents at the conclusion of the series in the MAIN EVENT. A 50 target 5-stand and super sporting will be available to shoot. There will also be a practice 5-stand available. Please note that this is a European rotation event; shooters must shoot in a squad of 3 or more. Main event: $20 btc; 5-Stand: $10btc; Super Sport $10btc. Shoot the main from 8AM-4PM. Golf carts can ONLY be reserved online. \nHead over to Scorechaser for full details and to get registered. \n  \nREGISTER ON SCORECHASER
URL:https://sfhogheaven.com/event/buckle-race-2026-shoot-4/
LOCATION:Hog Heaven Sporting Club\, 24905 Ranch Road 12\, Dripping Springs\, Texas\, 78620\, United States
CATEGORIES:Shotgun Event
ATTACH;FMTTYPE=image/png:https://sfhogheaven.com/wp-content/uploads/2026/02/Artboard-3-png.avif
END:VEVENT
BEGIN:VEVENT
DTSTART;TZID=America/Chicago:20260920T080000
DTEND;TZID=America/Chicago:20260920T160000
DTSTAMP:20260421T093353
CREATED:20260331T163044Z
LAST-MODIFIED:20260331T163044Z
UID:10000448-1789891200-1789920000@sfhogheaven.com
SUMMARY:BUCKLE RACE 2026 - Shoot #5
DESCRIPTION:JOIN US FOR THE 2026 BUCKLE RACE: 7 EVENTS\, ONE SHOT AT THE CHAMPION’S BUCKLE!\nThe 2026 Buckle Race will consist of 7 shoots spread throughout the year\, with the 2 lowest scores being dropped. Buckles will be awarded to HOA\, class\, and concurrents at the conclusion of the series in the MAIN EVENT. A 50 target 5-stand and super sporting will be available to shoot. There will also be a practice 5-stand available. Please note that this is a European rotation event; shooters must shoot in a squad of 3 or more. Main event: $20 btc; 5-Stand: $10btc; Super Sport $10btc. Shoot the main from 8AM-4PM. Golf carts can ONLY be reserved online. \nHead over to Scorechaser for full details and to get registered. \n  \nREGISTER ON SCORECHASER
URL:https://sfhogheaven.com/event/buckle-race-2026-shoot-5/
LOCATION:Hog Heaven Sporting Club\, 24905 Ranch Road 12\, Dripping Springs\, Texas\, 78620\, United States
CATEGORIES:Shotgun Event
ATTACH;FMTTYPE=image/png:https://sfhogheaven.com/wp-content/uploads/2026/02/Artboard-3-png.avif
END:VEVENT
BEGIN:VEVENT
DTSTART;TZID=America/Chicago:20261031T080000
DTEND;TZID=America/Chicago:20261031T160000
DTSTAMP:20260421T093353
CREATED:20260331T163350Z
LAST-MODIFIED:20260331T163350Z
UID:10000449-1793433600-1793462400@sfhogheaven.com
SUMMARY:BUCKLE RACE 2026 - Shoot #6
DESCRIPTION:JOIN US FOR THE 2026 BUCKLE RACE: 7 EVENTS\, ONE SHOT AT THE CHAMPION’S BUCKLE!\nThe 2026 Buckle Race will consist of 7 shoots spread throughout the year\, with the 2 lowest scores being dropped. Buckles will be awarded to HOA\, class\, and concurrents at the conclusion of the series in the MAIN EVENT. A 50 target 5-stand and super sporting will be available to shoot. There will also be a practice 5-stand available. Please note that this is a European rotation event; shooters must shoot in a squad of 3 or more. Main event: $20 btc; 5-Stand: $10btc; Super Sport $10btc. Shoot the main from 8AM-4PM. Golf carts can ONLY be reserved online. \nHead over to Scorechaser for full details and to get registered. \n  \nREGISTER ON SCORECHASER
URL:https://sfhogheaven.com/event/buckle-race-2026-shoot-6/
LOCATION:Hog Heaven Sporting Club\, 24905 Ranch Road 12\, Dripping Springs\, Texas\, 78620\, United States
CATEGORIES:Shotgun Event
ATTACH;FMTTYPE=image/png:https://sfhogheaven.com/wp-content/uploads/2026/02/Artboard-3-png.avif
END:VEVENT
BEGIN:VEVENT
DTSTART;TZID=America/Chicago:20261122T080000
DTEND;TZID=America/Chicago:20261122T160000
DTSTAMP:20260421T093353
CREATED:20260331T163550Z
LAST-MODIFIED:20260331T163550Z
UID:10000450-1795334400-1795363200@sfhogheaven.com
SUMMARY:BUCKLE RACE 2026 - Shoot #7
DESCRIPTION:JOIN US FOR THE 2026 BUCKLE RACE: 7 EVENTS\, ONE SHOT AT THE CHAMPION’S BUCKLE!\nThe 2026 Buckle Race will consist of 7 shoots spread throughout the year\, with the 2 lowest scores being dropped. Buckles will be awarded to HOA\, class\, and concurrents at the conclusion of the series in the MAIN EVENT. A 50 target 5-stand and super sporting will be available to shoot. There will also be a practice 5-stand available. Please note that this is a European rotation event; shooters must shoot in a squad of 3 or more. Main event: $20 btc; 5-Stand: $10btc; Super Sport $10btc. Shoot the main from 8AM-4PM. Golf carts can ONLY be reserved online. \nHead over to Scorechaser for full details and to get registered. \n  \nREGISTER ON SCORECHASER
URL:https://sfhogheaven.com/event/buckle-race-2026-shoot-7/
LOCATION:Hog Heaven Sporting Club\, 24905 Ranch Road 12\, Dripping Springs\, Texas\, 78620\, United States
CATEGORIES:Shotgun Event
ATTACH;FMTTYPE=image/png:https://sfhogheaven.com/wp-content/uploads/2026/02/Artboard-3-png.avif
END:VEVENT
END:VCALENDAR